BEGIN:VCALENDAR
VERSION:2.0
PRODID:-//Freiwillige Feuerwehr Purkersdorf - ECPv5.5.0.1//NONSGML v1.0//EN
CALSCALE:GREGORIAN
METHOD:PUBLISH
X-WR-CALNAME:Freiwillige Feuerwehr Purkersdorf
X-ORIGINAL-URL:https://www.ff-purkersdorf.at
X-WR-CALDESC:Veranstaltungen für Freiwillige Feuerwehr Purkersdorf
BEGIN:VTIMEZONE
TZID:Europe/Vienna
BEGIN:DAYLIGHT
TZOFFSETFROM:+0100
TZOFFSETTO:+0200
TZNAME:CEST
DTSTART:20170326T010000
END:DAYLIGHT
BEGIN:STANDARD
TZOFFSETFROM:+0200
TZOFFSETTO:+0100
TZNAME:CET
DTSTART:20171029T010000
END:STANDARD
END:VTIMEZONE
BEGIN:VEVENT
DTSTART;TZID=Europe/Vienna:20170225T200000
DTEND;TZID=Europe/Vienna:20170226T040000
DTSTAMP:20260424T132531
CREATED:20170107T201237Z
LAST-MODIFIED:20170527T084922Z
UID:2680-1488052800-1488081600@www.ff-purkersdorf.at
SUMMARY:Ball der Freiwilligen Feuerwehr Purkersdorf
DESCRIPTION:Die Freiwillige Feuerwehr Purkersdorf lädt wieder zu einer rauschenden Ballnacht mit Tombola\, Juxbasar\, toller Mitternachtseinlage und Live-Musik. \nKarten und Tischreservierungen unter Tel.: 02231/62122\, Mo. – Fr. 08.00 – 18.00 Uhr
URL:https://www.ff-purkersdorf.at/event/ball-der-freiwilligen-feuerwehr-purkersdorf/
LOCATION:Stadtsaal Purkersdorf\, Bachgasse 10\, 3002 Purkersdorf\, Österreich
ATTACH;FMTTYPE=image/jpeg:https://www.ff-purkersdorf.at/wp-content/uploads/2016/02/DSCF2419.jpg
ORGANIZER;CN="Freiwillige%20Feuerwehr%20Purkersdorf":MAILTO:purkersdorf@feuerwehr.gv.at
END:VEVENT
END:VCALENDAR