BEGIN:VCALENDAR
VERSION:2.0
PRODID:-//Freiwillige Feuerwehr Purkersdorf - ECPv5.5.0.1//NONSGML v1.0//EN
CALSCALE:GREGORIAN
METHOD:PUBLISH
X-WR-CALNAME:Freiwillige Feuerwehr Purkersdorf
X-ORIGINAL-URL:https://www.ff-purkersdorf.at
X-WR-CALDESC:Veranstaltungen für Freiwillige Feuerwehr Purkersdorf
BEGIN:VTIMEZONE
TZID:Europe/Vienna
BEGIN:DAYLIGHT
TZOFFSETFROM:+0100
TZOFFSETTO:+0200
TZNAME:CEST
DTSTART:20160327T010000
END:DAYLIGHT
BEGIN:STANDARD
TZOFFSETFROM:+0200
TZOFFSETTO:+0100
TZNAME:CET
DTSTART:20161030T010000
END:STANDARD
END:VTIMEZONE
BEGIN:VEVENT
DTSTART;TZID=Europe/Vienna:20160129T190000
DTEND;TZID=Europe/Vienna:20160129T220000
DTSTAMP:20260424T164131
CREATED:20151015T103102Z
LAST-MODIFIED:20151015T103139Z
UID:598-1454094000-1454104800@www.ff-purkersdorf.at
SUMMARY:Mitgliederversammlung
DESCRIPTION:Mitgliederversammlung mit Wahl des Kdt. & Stv. \nBraune Uniform!
URL:https://www.ff-purkersdorf.at/event/mitgliederversammlung/
LOCATION:Gasthaus Forthofer\, Tullnerbachstraße 51\, Purkersdorf\, 3002\, Österreich
END:VEVENT
END:VCALENDAR